BEGIN:VCALENDAR
VERSION:2.0
PRODID:-//wp-events-plugin.com//7.2.3.1//EN
TZID:Europe/Berlin
X-WR-TIMEZONE:Europe/Berlin
BEGIN:VEVENT
UID:145@heike-seeberger.de
DTSTART;TZID=Europe/Berlin;VALUE=DATE:20260912
DTEND;TZID=Europe/Berlin;VALUE=DATE:20260914
DTSTAMP:20231126T173635Z
URL:https://heike-seeberger.de/termine/wiederholung-und-vertiefung/
SUMMARY:Wiederholung und Vertiefung
DESCRIPTION:\n 	Wiederholen\, Vertiefen der wichtigsten Unterrichtsinhalte\
 n 	Klärung offener Fragen\n 	Vertiefung von Übungen nach Bedarf\n
CATEGORIES:Ausbildung
LOCATION:Stiller Übungsraum\, Spinnereigarten 10\, Wangen\, 88239\, Deutsc
 hland
X-APPLE-STRUCTURED-LOCATION;VALUE=URI;X-ADDRESS=Spinnereigarten 10\, Wangen
 \, 88239\, Deutschland;X-APPLE-RADIUS=100;X-TITLE=Stiller Übungsraum:geo:
 0,0
END:VEVENT
BEGIN:VTIMEZONE
TZID:Europe/Berlin
X-LIC-LOCATION:Europe/Berlin
BEGIN:DAYLIGHT
DTSTART:20260329T030000
TZOFFSETFROM:+0100
TZOFFSETTO:+0200
TZNAME:CEST
END:DAYLIGHT
END:VTIMEZONE
END:VCALENDAR