BEGIN:VCALENDAR
VERSION:2.0
PRODID:-//wp-events-plugin.com//7.2.3.1//EN
TZID:Europe/Berlin
X-WR-TIMEZONE:Europe/Berlin
BEGIN:VEVENT
UID:277@heike-seeberger.de
DTSTART;TZID=Europe/Berlin;VALUE=DATE:20270619
DTEND;TZID=Europe/Berlin;VALUE=DATE:20270621
DTSTAMP:20260209T171624Z
URL:https://heike-seeberger.de/termine/wiederholung-und-vertiefung-3/
SUMMARY:Wiederholung und Vertiefung
DESCRIPTION:\n 	Haltung\, Stehen\, Dantian\n 	Atem und Qigong\n 	Leitbahnen
 \n 	Yangsheng („Lebenspflege“) und Body-Mind-Beziehung\n 	Einführung 
 in Zhanzhuang\n
CATEGORIES:Ausbildung
LOCATION:Stiller Übungsraum\, Spinnereigarten 10\, Wangen\, 88239\, Deutsc
 hland
X-APPLE-STRUCTURED-LOCATION;VALUE=URI;X-ADDRESS=Spinnereigarten 10\, Wangen
 \, 88239\, Deutschland;X-APPLE-RADIUS=100;X-TITLE=Stiller Übungsraum:geo:
 0,0
END:VEVENT
BEGIN:VTIMEZONE
TZID:Europe/Berlin
X-LIC-LOCATION:Europe/Berlin
BEGIN:DAYLIGHT
DTSTART:20270328T030000
TZOFFSETFROM:+0100
TZOFFSETTO:+0200
TZNAME:CEST
END:DAYLIGHT
END:VTIMEZONE
END:VCALENDAR