BEGIN:VCALENDAR
VERSION:2.0
PRODID:-//wp-events-plugin.com//7.2.3.1//EN
TZID:Europe/Berlin
X-WR-TIMEZONE:Europe/Berlin
BEGIN:VEVENT
UID:274@heike-seeberger.de
DTSTART;TZID=Europe/Berlin;VALUE=DATE:20270227
DTEND;TZID=Europe/Berlin;VALUE=DATE:20270301
DTSTAMP:20260209T171439Z
URL:https://heike-seeberger.de/termine/tcm-1-meridiane-yin-yang-2/
SUMMARY:TCM 1 - Meridiane / Yin-Yang
DESCRIPTION:\n 	Einführung und Überblick Traditionelle Chinesische Medizi
 n\n 	Yin und Yang\n 	Leitbahn-(Meridian-)Lehre\n 	Lage ausgewählter Akupu
 nktur-Punkte\n 	Meridian-Übungen (Dehnungsübungen\, Selbstmassagen)\nVer
 tiefung Dantian-Übungen\n
CATEGORIES:Ausbildung
LOCATION:Stiller Übungsraum\, Spinnereigarten 10\, Wangen\, 88239\, Deutsc
 hland
X-APPLE-STRUCTURED-LOCATION;VALUE=URI;X-ADDRESS=Spinnereigarten 10\, Wangen
 \, 88239\, Deutschland;X-APPLE-RADIUS=100;X-TITLE=Stiller Übungsraum:geo:
 0,0
END:VEVENT
BEGIN:VTIMEZONE
TZID:Europe/Berlin
X-LIC-LOCATION:Europe/Berlin
BEGIN:STANDARD
DTSTART:20261025T020000
TZOFFSETFROM:+0200
TZOFFSETTO:+0100
TZNAME:CET
END:STANDARD
END:VTIMEZONE
END:VCALENDAR