BEGIN:VCALENDAR
VERSION:2.0
PRODID:-//wp-events-plugin.com//7.2.3.1//EN
TZID:Europe/Berlin
X-WR-TIMEZONE:Europe/Berlin
BEGIN:VEVENT
UID:149@heike-seeberger.de
DTSTART;TZID=Europe/Berlin:20240308T153000
DTEND;TZID=Europe/Berlin:20240308T183000
DTSTAMP:20231201T212942Z
URL:https://heike-seeberger.de/termine/qigong-uebungen-zum-stressmanagemen
 t-2/
SUMMARY:Qigong-Übungen zum Stressmanagement
DESCRIPTION:mit Frühjahrsschwerpunkt\nDie Kraft des Frühjahrs nutzen\, um
  Durchsetzungskraft und Flexibilität zu stärken\, klare Sicht und Entsch
 eidungsfähigkeit zu fördern\, mit frischem Schwung an Aufgaben zu gehen.
 \n\nKosten: 30€
CATEGORIES:einzel
LOCATION:Stiller Übungsraum\, Spinnereigarten 10\, Wangen\, 88239\, Deutsc
 hland
X-APPLE-STRUCTURED-LOCATION;VALUE=URI;X-ADDRESS=Spinnereigarten 10\, Wangen
 \, 88239\, Deutschland;X-APPLE-RADIUS=100;X-TITLE=Stiller Übungsraum:geo:
 0,0
END:VEVENT
BEGIN:VTIMEZONE
TZID:Europe/Berlin
X-LIC-LOCATION:Europe/Berlin
BEGIN:STANDARD
DTSTART:20231029T020000
TZOFFSETFROM:+0200
TZOFFSETTO:+0100
TZNAME:CET
END:STANDARD
END:VTIMEZONE
END:VCALENDAR