BEGIN:VCALENDAR
VERSION:2.0
PRODID:-//wp-events-plugin.com//7.2.3.1//EN
TZID:Europe/Berlin
X-WR-TIMEZONE:Europe/Berlin
BEGIN:VEVENT
UID:107@heike-seeberger.de
DTSTART;TZID=Europe/Berlin:20231121T180000
DTEND;TZID=Europe/Berlin:20231121T190000
DTSTAMP:20230724T111240Z
URL:https://heike-seeberger.de/termine/qigong-die-8-brokatuebungen-2023-11
 -21/
SUMMARY:Qigong - die 8 Brokatübungen (Baduanjin)
DESCRIPTION:Die Bewegungen der 8 Brokatübungen (Baduanjin) helfen zur Entw
 icklung von Stabilität\, innerer Kraft und Ruhe. Die stabilisierende\, st
 ärkende Wirkung bezieht sich nicht nur auf die Glieder sondern auch auf d
 ie inneren Organe\, psychische und mentale Funktionen. Lebenskraft und Leb
 ensfreude erhöhen sich und die Grundlage für ein entspannteres und kraft
 volleres Leben wird damit gelegt. Sie stärken damit die Resilienz und erh
 öhen die Fähigkeit\, den Berufs- und Familienalltag stressreduziert zu g
 estalten.\nDie Übungen sind klar strukturiert und leicht zu erlernen.\nDi
 e Übungsreihe ist schon recht alt\, wurde über die Jahrhunderte hinweg v
 on vielen Menschen geübt\, verfeinert und in neuerer Zeit auch wissenscha
 ftlich untersucht. Ich unterrichte in diesem Kurs die Methode der „Chine
 se Health Qigong Association“.\nKosten: 100 € (10 Termine)\nDer Kurs i
 st von den Krankenkassen zertifiziert\, sie übernehmen also ggf. einen Te
 il der Kosten.
CATEGORIES:fortlaufend,keine Vorkenntnisse nötig,ZPP zertifiziert
LOCATION:Stiller Übungsraum\, Spinnereigarten 10\, Wangen\, 88239\, Deutsc
 hland
X-APPLE-STRUCTURED-LOCATION;VALUE=URI;X-ADDRESS=Spinnereigarten 10\, Wangen
 \, 88239\, Deutschland;X-APPLE-RADIUS=100;X-TITLE=Stiller Übungsraum:geo:
 0,0
END:VEVENT
BEGIN:VTIMEZONE
TZID:Europe/Berlin
X-LIC-LOCATION:Europe/Berlin
BEGIN:STANDARD
DTSTART:20231029T020000
TZOFFSETFROM:+0200
TZOFFSETTO:+0100
TZNAME:CET
END:STANDARD
END:VTIMEZONE
END:VCALENDAR