BEGIN:VCALENDAR
VERSION:2.0
PRODID:-//wp-events-plugin.com//7.2.3.1//EN
TZID:Europe/Berlin
X-WR-TIMEZONE:Europe/Berlin
BEGIN:VEVENT
UID:5@heike-seeberger.de
DTSTART;TZID=Europe/Berlin:20230205T093000
DTEND;TZID=Europe/Berlin:20230205T170000
DTSTAMP:20230110T115709Z
URL:https://heike-seeberger.de/termine/die-8-sondergefaesse/
SUMMARY:Die 8 Sondergefäße
DESCRIPTION:Wir befassen uns mit Verlauf und Funktion der Sondergefäße\, 
 üben passende Übungen dazu\, schauen uns Übungen bzgl. ihrer Verbindung
  dazu an.
CATEGORIES:Fortbildung
LOCATION:Praxis für Ergotherapie A. Schultz\, Traminerstr. 10\, 73494 Hess
 igheim\, Baden-Württemberg\, Deutschland
X-APPLE-STRUCTURED-LOCATION;VALUE=URI;X-ADDRESS=Traminerstr. 10\, 73494 Hes
 sigheim\, Baden-Württemberg\, Deutschland;X-APPLE-RADIUS=100;X-TITLE=Prax
 is für Ergotherapie A. Schultz:geo:0,0
END:VEVENT
BEGIN:VTIMEZONE
TZID:Europe/Berlin
X-LIC-LOCATION:Europe/Berlin
BEGIN:STANDARD
DTSTART:20221030T020000
TZOFFSETFROM:+0200
TZOFFSETTO:+0100
TZNAME:CET
END:STANDARD
END:VTIMEZONE
END:VCALENDAR