BEGIN:VCALENDAR
VERSION:2.0
PRODID:-//wp-events-plugin.com//7.2.3.1//EN
TZID:Europe/Berlin
X-WR-TIMEZONE:Europe/Berlin
BEGIN:VEVENT
UID:147@heike-seeberger.de
DTSTART;TZID=Europe/Berlin;VALUE=DATE:20241130
DTEND;TZID=Europe/Berlin;VALUE=DATE:20241202
DTSTAMP:20231126T174140Z
URL:https://heike-seeberger.de/termine/18-uebungen-des-taiji-qigong-2-2/
SUMMARY:18 Übungen des Taiji Qigong 2
DESCRIPTION:Die Übungen werden korrigiert\, vertieft und bezüglich der gg
 f. veränderten Wirksamkeit bei Abweichungen und Varianten betrachtet. Es 
 geht dabei um das tiefere Verständnis der Bewegung und die Fähigkeit\, s
 ich selbst zu korrigieren.
CATEGORIES:Ausbildung
LOCATION:Stiller Übungsraum\, Spinnereigarten 10\, Wangen\, 88239\, Deutsc
 hland
X-APPLE-STRUCTURED-LOCATION;VALUE=URI;X-ADDRESS=Spinnereigarten 10\, Wangen
 \, 88239\, Deutschland;X-APPLE-RADIUS=100;X-TITLE=Stiller Übungsraum:geo:
 0,0
END:VEVENT
BEGIN:VTIMEZONE
TZID:Europe/Berlin
X-LIC-LOCATION:Europe/Berlin
BEGIN:STANDARD
DTSTART:20241027T020000
TZOFFSETFROM:+0200
TZOFFSETTO:+0100
TZNAME:CET
END:STANDARD
END:VTIMEZONE
END:VCALENDAR